BEGIN:VCALENDAR
VERSION:2.0
PRODID:-//Stella Krenčejová - ECPv6.15.11//NONSGML v1.0//EN
CALSCALE:GREGORIAN
METHOD:PUBLISH
X-WR-CALNAME:Stella Krenčejová
X-ORIGINAL-URL:https://www.stellakrencejova.cz
X-WR-CALDESC:Akce na Stella Krenčejová
REFRESH-INTERVAL;VALUE=DURATION:PT1H
X-Robots-Tag:noindex
X-PUBLISHED-TTL:PT1H
BEGIN:VTIMEZONE
TZID:Europe/Prague
BEGIN:DAYLIGHT
TZOFFSETFROM:+0100
TZOFFSETTO:+0200
TZNAME:CEST
DTSTART:20240331T010000
END:DAYLIGHT
BEGIN:STANDARD
TZOFFSETFROM:+0200
TZOFFSETTO:+0100
TZNAME:CET
DTSTART:20241027T010000
END:STANDARD
BEGIN:DAYLIGHT
TZOFFSETFROM:+0100
TZOFFSETTO:+0200
TZNAME:CEST
DTSTART:20250330T010000
END:DAYLIGHT
BEGIN:STANDARD
TZOFFSETFROM:+0200
TZOFFSETTO:+0100
TZNAME:CET
DTSTART:20251026T010000
END:STANDARD
BEGIN:DAYLIGHT
TZOFFSETFROM:+0100
TZOFFSETTO:+0200
TZNAME:CEST
DTSTART:20260329T010000
END:DAYLIGHT
BEGIN:STANDARD
TZOFFSETFROM:+0200
TZOFFSETTO:+0100
TZNAME:CET
DTSTART:20261025T010000
END:STANDARD
END:VTIMEZONE
BEGIN:VEVENT
DTSTART;TZID=Europe/Prague:20251012T170000
DTEND;TZID=Europe/Prague:20251012T200000
DTSTAMP:20260426T033634
CREATED:20250911T182458Z
LAST-MODIFIED:20250914T174859Z
UID:8525-1760288400-1760299200@www.stellakrencejova.cz
SUMMARY:Tantrický tanec
DESCRIPTION:Více info v odkazu dole. Cena 650 Kč/solo\, 1000 Kč pár
URL:https://www.stellakrencejova.cz/akce/tantricky-tanec/
LOCATION:A. Procházky 9/5\, Brno
CATEGORIES:Smíšené kurzy
ATTACH;FMTTYPE=image/jpeg:https://www.stellakrencejova.cz/wp-content/uploads/2025/09/Untitled-design-27.jpg
END:VEVENT
END:VCALENDAR